BEGIN:VCALENDAR
VERSION:2.0
PRODID:spatie/icalendar-generator
DESCRIPTION:Events from Peterborough Historical Society
X-WR-CALDESC:Events from Peterborough Historical Society
REFRESH-INTERVAL;VALUE=DURATION:PT1440M
X-PUBLISHED-TTL:PT1440M
BEGIN:VTIMEZONE
TZID:America/Toronto
BEGIN:STANDARD
DTSTART:20251102T020000Z
TZOFFSETFROM:-0400
TZOFFSETTO:-0500
END:STANDARD
BEGIN:DAYLIGHT
DTSTART:20260308T020000Z
TZOFFSETFROM:-0500
TZOFFSETTO:-0400
END:DAYLIGHT
END:VTIMEZONE
BEGIN:VTIMEZONE
TZID:UTC
BEGIN:STANDARD
DTSTART:20250727T173512Z
TZOFFSETFROM:+0000
TZOFFSETTO:+0000
END:STANDARD
END:VTIMEZONE
BEGIN:VEVENT
UID:469-282
DTSTAMP:20260423T173512Z
SUMMARY:Heritage Luncheon
LOCATION:Hutchison House Museum 270 Brock Street  Peterborough Ontario K9H 
 2P9
ORGANIZER;CN=Hutchison House:MAILTO:&#105;n&#102;&#111;&#64;h&#117;&#116;c&#104;ison&#104;o&#117;s&#101;&#46;ca
RRULE:FREQ=MONTHLY;BYDAY=1WE;UNTIL=20260605T000000Z
DTSTART;TZID=America/Toronto:20260401T120000
DTEND;TZID=America/Toronto:20260401T150000
X-ALT-DESC;FMTTYPE=TEXT/HTML:Enjoy a delicious home cooked meal by the hear
 th fire in the Historic Keeping Room. Sittings at 12 and 1:30. Reservation
 s required and $25 per person. Meals vary per month and include coffee\, t
 ea or water\, plus refills\, entree and dessert. For more information or t
 o book a seat please contact the museum at 705-743-9710&amp;hellip\;
CATEGORIES:Hutchison House
URL;VALUE=URI:https://phs-hutchisonhouse.ca/events-calendar/heritage-lunche
 on-25/?mc_id=469
METHOD:PUBLISH
END:VEVENT
BEGIN:VEVENT
UID:477-285
DTSTAMP:20260423T173512Z
SUMMARY:PA Day Camp: Kaleidoscopes
LOCATION:Hutchison House Museum 270 Brock Street  Peterborough Ontario K9H 
 2P9
ORGANIZER;CN=Hutchison House:MAILTO:i&#110;fo&#64;hu&#116;&#99;&#104;&#105;s&#111;nh&#111;us&#101;.&#99;a
DTSTART;TZID=America/Toronto:20260417T093000
DTEND;TZID=America/Toronto:20260417T120000
X-ALT-DESC;FMTTYPE=TEXT/HTML:Kaleidoscopes were being mass manufactured by 
 1874\, this day we will be learning about the different types and creating
  our own kaleidoscopes. Have fun with this PA Day Camp on Friday April 17\
 , 2026 from 9:30am-noon. Cost per child is $25. Children are required to b
 ring their own peanut free snack. Registration is required. This&amp;hellip\;
CATEGORIES:Hutchison House
URL;VALUE=URI:https://phs-hutchisonhouse.ca/events-calendar/pa-day-camp-kal
 eidoscopes-2/
METHOD:PUBLISH
END:VEVENT
BEGIN:VEVENT
UID:478-286
DTSTAMP:20260423T173512Z
SUMMARY:PHS AGM and Speaker Series: 14th Colony to 51st State: America Cove
 ting Canada
LOCATION:Lion\\'s Community Centre 347 Burnham Street  Peterborough Ontario
ORGANIZER;CN=Peterborough Historical Society:MAILTO:info@peterboroughhistor
 icalsociety.ca
DTSTART;TZID=America/Toronto:20260421T190000
DTEND;TZID=America/Toronto:20260421T210000
X-ALT-DESC;FMTTYPE=TEXT/HTML:Tuesday April 21 AGM: 7-7:30pm Presentation: 7
 :30-9pm Peterborough Lions Community Centre 347 Burnham St &amp;nbsp\; Admissi
 on is free (Donations welcome) &amp;nbsp\; &amp;nbsp\; Join us Tuesday April 21\, 
 2026  from 7:30-9:00pm for John Boyko’s presentation 14th Colony to 51s
 t State: America Coveting Canada following the Peterborough Historical Soc
 iety Annual General Meeting at 7pm at the Lions&amp;hellip\;
CATEGORIES:PHS
URL;VALUE=URI:https://phs-hutchisonhouse.ca/events-calendar/phs-agm-and-spe
 aker-series-14th-colony-to-51st-state-america-coveting-canada/
METHOD:PUBLISH
END:VEVENT
END:VCALENDAR