BEGIN:VCALENDAR
VERSION:2.0
PRODID:spatie/icalendar-generator
DESCRIPTION:Events from Peterborough Historical Society
X-WR-CALDESC:Events from Peterborough Historical Society
REFRESH-INTERVAL;VALUE=DURATION:PT1440M
X-PUBLISHED-TTL:PT1440M
BEGIN:VTIMEZONE
TZID:America/Toronto
BEGIN:STANDARD
DTSTART:20221106T020000Z
TZOFFSETFROM:-0400
TZOFFSETTO:-0500
END:STANDARD
BEGIN:DAYLIGHT
DTSTART:20230312T020000Z
TZOFFSETFROM:-0500
TZOFFSETTO:-0400
END:DAYLIGHT
BEGIN:STANDARD
DTSTART:20231105T020000Z
TZOFFSETFROM:-0400
TZOFFSETTO:-0500
END:STANDARD
END:VTIMEZONE
BEGIN:VTIMEZONE
TZID:UTC
BEGIN:STANDARD
DTSTART:20250729T011730Z
TZOFFSETFROM:+0000
TZOFFSETTO:+0000
END:STANDARD
END:VTIMEZONE
BEGIN:VEVENT
UID:194-88
DTSTAMP:20260425T011730Z
SUMMARY:Summer Workshop: Botanicals
LOCATION:
ORGANIZER;CN=Hutchison House:MAILTO:info@hutchisonhouse.ca
DTSTART;TZID=America/Toronto:20230720T093000
DTEND;TZID=America/Toronto:20230720T120000
X-ALT-DESC;FMTTYPE=TEXT/HTML:July 20th\, 2023 9:30-12 We will be continuing
  the 19th century tradition of flower preservation by making flower presse
 s during this workshop. Children will be decorating flower presses and col
 lecting flowers to make their own Victorian preserved flower collection. &amp;
 nbsp\; Are you looking for a way to beat summertime boredom? Parents or gr
 andparents looking to&amp;hellip\;
CATEGORIES:General Info
URL;VALUE=URI:https://phs-hutchisonhouse.ca/events-calendar/summer-workshop
 -botanicals-2/
METHOD:PUBLISH
END:VEVENT
END:VCALENDAR