BEGIN:VCALENDAR
VERSION:2.0
PRODID:spatie/icalendar-generator
DESCRIPTION:Events from Peterborough Historical Society
X-WR-CALDESC:Events from Peterborough Historical Society
REFRESH-INTERVAL;VALUE=DURATION:PT1440M
X-PUBLISHED-TTL:PT1440M
BEGIN:VTIMEZONE
TZID:America/Toronto
BEGIN:STANDARD
DTSTART:20231105T020000Z
TZOFFSETFROM:-0400
TZOFFSETTO:-0500
END:STANDARD
BEGIN:DAYLIGHT
DTSTART:20240310T020000Z
TZOFFSETFROM:-0500
TZOFFSETTO:-0400
END:DAYLIGHT
END:VTIMEZONE
BEGIN:VTIMEZONE
TZID:UTC
BEGIN:STANDARD
DTSTART:20250729T103111Z
TZOFFSETFROM:+0000
TZOFFSETTO:+0000
END:STANDARD
END:VTIMEZONE
BEGIN:VEVENT
UID:319-153
DTSTAMP:20260425T103111Z
SUMMARY:Deadline: St. Patricks Day Meal
LOCATION:Hutchison House Museum 270 Brock Street  Peterborough Ontario K9H 
 2P9
ORGANIZER;CN=Hutchison House:MAILTO:info@hutchisonhouse.ca
DTSTART;TZID=America/Toronto:20240311T090000
DTEND;TZID=America/Toronto:20240311T170000
X-ALT-DESC;FMTTYPE=TEXT/HTML:St. Patrick’s Day Take Home Meal Orders due 
 by: Monday\, March 11 5pm Pick update: Friday\, March 15 12pm-2pm Experien
 ce a taste of Ireland from the comfort of your own home with a delicious S
 t. Patrick’s Day take-home meal. Enjoy corned beef and colcannon with ro
 asted carrots and Irish soda bread\, followed by a scrumptious&amp;hellip\;
CATEGORIES:Hutchison House
URL;VALUE=URI:https://phs-hutchisonhouse.ca/events-calendar/deadline-st-pat
 ricks-day-meal/
METHOD:PUBLISH
END:VEVENT
END:VCALENDAR