BEGIN:VCALENDAR
VERSION:2.0
PRODID:spatie/icalendar-generator
DESCRIPTION:Events from Peterborough Historical Society
X-WR-CALDESC:Events from Peterborough Historical Society
REFRESH-INTERVAL;VALUE=DURATION:PT1440M
X-PUBLISHED-TTL:PT1440M
BEGIN:VTIMEZONE
TZID:America/Toronto
BEGIN:STANDARD
DTSTART:20211107T020000Z
TZOFFSETFROM:-0400
TZOFFSETTO:-0500
END:STANDARD
BEGIN:DAYLIGHT
DTSTART:20220313T020000Z
TZOFFSETFROM:-0500
TZOFFSETTO:-0400
END:DAYLIGHT
END:VTIMEZONE
BEGIN:VTIMEZONE
TZID:UTC
BEGIN:STANDARD
DTSTART:20250728T080930Z
TZOFFSETFROM:+0000
TZOFFSETTO:+0000
END:STANDARD
END:VTIMEZONE
BEGIN:VEVENT
UID:74-21
DTSTAMP:20260424T080930Z
SUMMARY:Speaker Series-Days from Destruction: How Public Action Saved Lakef
 ield’s Old Stone Mill House
LOCATION:
ORGANIZER;CN=MA:MAILTO:alice.a.mcmurtry@gmail.com
DTSTART;TZID=America/Toronto:20220315T193000
DTEND;TZID=America/Toronto:20220315T203000
X-ALT-DESC;FMTTYPE=TEXT/HTML:Speaker series: Michael Chappell &amp;nbsp\; Micha
 el Chappell is a Civil Engineering Technologist and Occupational Health an
 d Safety expert who in 2021 helped mobilize citizens to save the historic 
 Old Stone Mill House in Lakefield. A demolition permit already having been
  issued by the Township of Selwyn and an outside buyer having made an offe
 r on&amp;hellip\;
CATEGORIES:PHS
URL;VALUE=URI:https://phs-hutchisonhouse.ca/events-calendar/speaker-series-
 days-from-destruction-how-public-action-saved-lakefields-old-stone-mill-ho
 use/
METHOD:PUBLISH
END:VEVENT
END:VCALENDAR