BEGIN:VCALENDAR
VERSION:2.0
PRODID:spatie/icalendar-generator
DESCRIPTION:Events from Peterborough Historical Society
X-WR-CALDESC:Events from Peterborough Historical Society
REFRESH-INTERVAL;VALUE=DURATION:PT1440M
X-PUBLISHED-TTL:PT1440M
BEGIN:VTIMEZONE
TZID:America/Toronto
BEGIN:DAYLIGHT
DTSTART:20230312T020000Z
TZOFFSETFROM:-0500
TZOFFSETTO:-0400
END:DAYLIGHT
BEGIN:STANDARD
DTSTART:20231105T020000Z
TZOFFSETFROM:-0400
TZOFFSETTO:-0500
END:STANDARD
BEGIN:DAYLIGHT
DTSTART:20240310T020000Z
TZOFFSETFROM:-0500
TZOFFSETTO:-0400
END:DAYLIGHT
END:VTIMEZONE
BEGIN:VTIMEZONE
TZID:UTC
BEGIN:STANDARD
DTSTART:20250725T090339Z
TZOFFSETFROM:+0000
TZOFFSETTO:+0000
END:STANDARD
END:VTIMEZONE
BEGIN:VEVENT
UID:285-120
DTSTAMP:20260421T090339Z
SUMMARY:Doors Open
LOCATION:Hutchison House Museum 270 Brock Street  Peterborough Ontario K9H 
 2P9
ORGANIZER;CN=Hutchison House:MAILTO:info@hutchisonhouse.ca
DTSTART;TZID=America/Toronto:20230916T100000
DTEND;TZID=America/Toronto:20230916T160000
X-ALT-DESC;FMTTYPE=TEXT/HTML:Hutchison House Museum is participating in Doo
 rs Open Peterborough on Saturday September 16\, 2023 from 10am – 4pm. Ad
 mission is free. Enjoy tours of the museum and hearth demonstrations by co
 stumed interpreters\, tours of the herb garden by members of the Peterboro
 ugh Community Medicine Gardeners at 11am and 2pm\, and see embroidering de
 monstrations as well&amp;hellip\;
CATEGORIES:Hutchison House
URL;VALUE=URI:https://phs-hutchisonhouse.ca/events-calendar/doors-open/
METHOD:PUBLISH
END:VEVENT
END:VCALENDAR