BEGIN:VCALENDAR
VERSION:2.0
PRODID:spatie/icalendar-generator
DESCRIPTION:Events from Peterborough Historical Society
X-WR-CALDESC:Events from Peterborough Historical Society
REFRESH-INTERVAL;VALUE=DURATION:PT1440M
X-PUBLISHED-TTL:PT1440M
BEGIN:VTIMEZONE
TZID:America/Toronto
BEGIN:STANDARD
DTSTART:20231105T020000Z
TZOFFSETFROM:-0400
TZOFFSETTO:-0500
END:STANDARD
BEGIN:DAYLIGHT
DTSTART:20240310T020000Z
TZOFFSETFROM:-0500
TZOFFSETTO:-0400
END:DAYLIGHT
END:VTIMEZONE
BEGIN:VTIMEZONE
TZID:UTC
BEGIN:STANDARD
DTSTART:20250724T023206Z
TZOFFSETFROM:+0000
TZOFFSETTO:+0000
END:STANDARD
END:VTIMEZONE
BEGIN:VEVENT
UID:324-158
DTSTAMP:20260420T023206Z
SUMMARY:SOLD OUT-Pairings: Peterborough Community Medicine Garden and the C
 hocolate Rabbit
LOCATION:Hutchison House Museum 270 Brock Street  Peterborough Ontario K9H 
 2P9
ORGANIZER;CN=Peterborough Historical Society:MAILTO:info@peterboroughhistor
 icalsociety.ca
DTSTART;TZID=America/Toronto:20240424T190000
DTEND;TZID=America/Toronto:20240424T203000
X-ALT-DESC;FMTTYPE=TEXT/HTML:Wednesday April 24\, 2024 we will be pairing w
 ith Kelly McDowell\, Master Gardener\, from Peterborough Medicine Gardener
 s as well as The Chocolate Rabbit from 7-8:30 at Hutchison House.  Kelly 
 will be looking at plantings for the spring garden\, plants that are nativ
 e to the area as well as some herbs that you may wish to&amp;hellip\;
CATEGORIES:PHS
URL;VALUE=URI:https://phs-hutchisonhouse.ca/events-calendar/sold-out-pairin
 gs-peterborough-community-medicine-garden-and-the-chocolate-rabbit/
METHOD:PUBLISH
END:VEVENT
END:VCALENDAR