BEGIN:VCALENDAR
VERSION:2.0
PRODID:spatie/icalendar-generator
DESCRIPTION:Events from Peterborough Historical Society
X-WR-CALDESC:Events from Peterborough Historical Society
REFRESH-INTERVAL;VALUE=DURATION:PT1440M
X-PUBLISHED-TTL:PT1440M
BEGIN:VTIMEZONE
TZID:America/Toronto
BEGIN:STANDARD
DTSTART:20211107T020000Z
TZOFFSETFROM:-0400
TZOFFSETTO:-0500
END:STANDARD
BEGIN:DAYLIGHT
DTSTART:20220313T020000Z
TZOFFSETFROM:-0500
TZOFFSETTO:-0400
END:DAYLIGHT
END:VTIMEZONE
BEGIN:VTIMEZONE
TZID:UTC
BEGIN:STANDARD
DTSTART:20250727T001856Z
TZOFFSETFROM:+0000
TZOFFSETTO:+0000
END:STANDARD
END:VTIMEZONE
BEGIN:VEVENT
UID:64-12
DTSTAMP:20260423T001856Z
SUMMARY:MUSEUM CLOSED
LOCATION:
ORGANIZER;CN=Hutchison House:MAILTO:info@hutchisonhouse.ca
DTSTART;TZID=America/Toronto;VALUE=DATE:20211221
DTEND;TZID=America/Toronto;VALUE=DATE:20211229
X-ALT-DESC;FMTTYPE=TEXT/HTML:
CATEGORIES:General Info
URL;VALUE=URI:https://phs-hutchisonhouse.ca/events-calendar/museum-closed-2
 /
METHOD:PUBLISH
END:VEVENT
END:VCALENDAR