BEGIN:VCALENDAR
VERSION:2.0
PRODID:spatie/icalendar-generator
DESCRIPTION:Events from Peterborough Historical Society
X-WR-CALDESC:Events from Peterborough Historical Society
REFRESH-INTERVAL;VALUE=DURATION:PT1440M
X-PUBLISHED-TTL:PT1440M
BEGIN:VTIMEZONE
TZID:America/Toronto
BEGIN:STANDARD
DTSTART:20211107T020000Z
TZOFFSETFROM:-0400
TZOFFSETTO:-0500
END:STANDARD
BEGIN:DAYLIGHT
DTSTART:20220313T020000Z
TZOFFSETFROM:-0500
TZOFFSETTO:-0400
END:DAYLIGHT
END:VTIMEZONE
BEGIN:VTIMEZONE
TZID:UTC
BEGIN:STANDARD
DTSTART:20250730T013238Z
TZOFFSETFROM:+0000
TZOFFSETTO:+0000
END:STANDARD
END:VTIMEZONE
BEGIN:VEVENT
UID:65-13
DTSTAMP:20260426T013238Z
SUMMARY:Speaker Series: John A. Macdonald\, Elizabeth Hall and Beavermead F
 arm
LOCATION:
ORGANIZER;CN=MA:MAILTO:alice.a.mcmurtry@gmail.com
DTSTART;TZID=America/Toronto:20220118T193000
DTEND;TZID=America/Toronto:20220118T203000
X-ALT-DESC;FMTTYPE=TEXT/HTML:Speaker series: by Ken Brown. On 21 December 1
 860 the prominent Peterborough widow\, Elizabeth Hall\, wrote to John A. M
 acdonald beginning\, “My loved John\,” and closing\, “Goodbye my own
  darling\, Love your loving Lizzie.” Historians have long known of this 
 letter\, but until now\, not much of the backstory. Ken Brown sheds new li
 ght on&amp;hellip\;
CATEGORIES:PHS
URL;VALUE=URI:https://phs-hutchisonhouse.ca/events-calendar/speaker-series-
 john-a-macdonald-elizabeth-hall-and-beavermead-farm/
METHOD:PUBLISH
END:VEVENT
END:VCALENDAR